BEGIN:VCALENDAR
VERSION:2.0
CALSCALE:GREGORIAN
PRODID:-//Diputació de Barcelona//DibaCMS//EN
BEGIN:VEVENT
UID:5173
DTSTAMP:20260420T073353
DTSTART:20200427T000000
DTEND:20200527T000000
SUMMARY:Des de l'Ajuntament us proposem ... consells d'actitud per aquests dies
LOCATION:
METHOD:PUBLISH
X-WR-CALNAME:capellades@capellades.cat
X-WR-TIMEZONE:Europe/Madrid
DESCRIPTION:Seguim aquesta setmana amb l'agenda diària de la secció "Des de l'Ajuntament us proposem...".

URI:https://www.capellades.cat/actualitat/agenda/des-de-lajuntament-us-proposem--consells-dactitud-per-aquests-dies.html
CLASS:PUBLIC
END:VEVENT
END:VCALENDAR
