BEGIN:VCALENDAR
VERSION:2.0
CALSCALE:GREGORIAN
PRODID:-//Diputació de Barcelona//DibaCMS//EN
BEGIN:VEVENT
UID:5163
DTSTAMP:20260420T042200
DTSTART:20200423T000000
DTEND:20200523T000000
SUMMARY:Avui des de l'Ajuntament us proposem ...  microcontes 
LOCATION:
METHOD:PUBLISH
X-WR-CALNAME:capellades@capellades.cat
X-WR-TIMEZONE:Europe/Madrid
DESCRIPTION:Avui des de l’Ajuntament de Capellades us proposem... els microcontes per al confinament de Joan Pinyol.

URI:https://www.capellades.cat/actualitat/agenda/avui-des-de-lajuntament-us-proposem--microcontes-.html
CLASS:PUBLIC
END:VEVENT
END:VCALENDAR
