BEGIN:VCALENDAR
VERSION:2.0
CALSCALE:GREGORIAN
PRODID:-//Diputació de Barcelona//DibaCMS//EN
BEGIN:VEVENT
UID:5157
DTSTAMP:20260420T042409
DTSTART:20200421T000000
DTEND:20200521T000000
SUMMARY:Des de l'Ajuntament us proposem... vivim del cuentu
LOCATION:
METHOD:PUBLISH
X-WR-CALNAME:capellades@capellades.cat
X-WR-TIMEZONE:Europe/Madrid
DESCRIPTION:Seguim aquesta setmana de Sant Jordi amb Des de l'Ajuntament us proposem...

URI:https://www.capellades.cat/actualitat/agenda/des-de-lajuntament-us-proposem-vivim-del-cuentu.html
CLASS:PUBLIC
END:VEVENT
END:VCALENDAR
