BEGIN:VCALENDAR
VERSION:2.0
CALSCALE:GREGORIAN
PRODID:-//Diputació de Barcelona//DibaCMS//EN
BEGIN:VEVENT
UID:5140
DTSTAMP:20260420T073658
DTSTART:20200414T000000
DTEND:20200414T000000
SUMMARY:Des de l'Ajuntament us proposem... activitats pels infants de 2 a 6 anys
LOCATION:
METHOD:PUBLISH
X-WR-CALNAME:capellades@capellades.cat
X-WR-TIMEZONE:Europe/Madrid
DESCRIPTION:Després de Setmana Santa seguim confinats a casa, especialment els nens i nenes. Per això avui des de l'Ajuntament us proposem.... pensem en ells.

URI:https://www.capellades.cat/actualitat/agenda/5140-des-de-lajuntament-us-proposem-activitats-pels-infants-de-2-a-6-anys.html
CLASS:PUBLIC
END:VEVENT
END:VCALENDAR
