BEGIN:VCALENDAR
VERSION:2.0
CALSCALE:GREGORIAN
PRODID:-//Diputació de Barcelona//DibaCMS//EN
BEGIN:VEVENT
UID:5135
DTSTAMP:20260419T163118
DTSTART:20200408T000000
DTEND:20200508T000000
SUMMARY:Des de l'Ajuntament us proposem...el Museu Molí Paperer
LOCATION:
METHOD:PUBLISH
X-WR-CALNAME:capellades@capellades.cat
X-WR-TIMEZONE:Europe/Madrid
DESCRIPTION:Avui des de l'Ajuntament us proposem .... descobrir més a fons el Museu Molí Paperer de Capellades.

URI:https://www.capellades.cat/actualitat/agenda/des-de-lajuntament-us-proposemel-museu-moli-paperer.html
CLASS:PUBLIC
END:VEVENT
END:VCALENDAR
