BEGIN:VCALENDAR
VERSION:2.0
CALSCALE:GREGORIAN
PRODID:-//Diputació de Barcelona//DibaCMS//EN
BEGIN:VEVENT
UID:5121
DTSTAMP:20260419T170022
DTSTART:20200402T000000
DTEND:20200502T000000
SUMMARY:Des de l'Ajuntament us proposem... contes en directe
LOCATION:
METHOD:PUBLISH
X-WR-CALNAME:capellades@capellades.cat
X-WR-TIMEZONE:Europe/Madrid
DESCRIPTION:Des de la Biblioteca El Safareig avui la Marta Camps ens recomana una iniciativa que cada dia explica un conte en directe.

URI:https://www.capellades.cat/actualitat/agenda/des-de-lajuntament-us-proposem-contes-en-directe.html
CLASS:PUBLIC
END:VEVENT
END:VCALENDAR
