BEGIN:VCALENDAR
VERSION:2.0
CALSCALE:GREGORIAN
PRODID:-//Diputació de Barcelona//DibaCMS//EN
BEGIN:VEVENT
UID:5110
DTSTAMP:20260420T042506
DTSTART:20200330T000000
DTEND:20200430T000000
SUMMARY:Des de l'Ajuntament us proposem... "Sota Terra"
LOCATION:
METHOD:PUBLISH
X-WR-CALNAME:capellades@capellades.cat
X-WR-TIMEZONE:Europe/Madrid
DESCRIPTION:Aquests són dies de confinament, de quedar-se a casa i aturar la propagació del Covid-19. 

URI:https://www.capellades.cat/actualitat/agenda/des-de-lajuntament-us-proposem-sota-terra.html
CLASS:PUBLIC
END:VEVENT
END:VCALENDAR
