BEGIN:VCALENDAR
VERSION:2.0
CALSCALE:GREGORIAN
PRODID:-//Diputació de Barcelona//DibaCMS//EN
BEGIN:VEVENT
UID:508
DTSTAMP:20260420T073627
DTSTART:20131213T000000
DTEND:20131220T000000
SUMMARY:Vine a donar sang
LOCATION:
METHOD:PUBLISH
X-WR-CALNAME:capellades@capellades.cat
X-WR-TIMEZONE:Europe/Madrid
DESCRIPTION:
	Nou acapte de sang a la Rectoria de Capellades des de les 7 de la tarda i fins a les 9 de la nit.

URI:https://www.capellades.cat/actualitat/agenda/vine-a-donar-sang.html
CLASS:PUBLIC
END:VEVENT
END:VCALENDAR
