BEGIN:VCALENDAR
VERSION:2.0
CALSCALE:GREGORIAN
PRODID:-//Diputació de Barcelona//DibaCMS//EN
BEGIN:VEVENT
UID:5063
DTSTAMP:20260422T144638
DTSTART:20200312T153000
DTEND:20200312T173000
SUMMARY:Activitat suspesa: Visita del SIAD
LOCATION:
METHOD:PUBLISH
X-WR-CALNAME:capellades@capellades.cat
X-WR-TIMEZONE:Europe/Madrid
DESCRIPTION:La visita prevista per avui dijous, s'ha suspès.

URI:https://www.capellades.cat/actualitat/agenda/activitat-suspesa-visita-del-siad.html
CLASS:PUBLIC
END:VEVENT
END:VCALENDAR
