BEGIN:VCALENDAR
VERSION:2.0
CALSCALE:GREGORIAN
PRODID:-//Diputació de Barcelona//DibaCMS//EN
BEGIN:VEVENT
UID:5061
DTSTAMP:20260420T092338
DTSTART:20200311T110000
DTEND:20200313T180000
SUMMARY:Activitat suspesa: Portes Obertes escola Mare del Diví Pastor
LOCATION:
METHOD:PUBLISH
X-WR-CALNAME:capellades@capellades.cat
X-WR-TIMEZONE:Europe/Madrid
DESCRIPTION:Seguint les directrius del Departament d'Educació de la Generalitat de Catalunya, s'ha suspès les jornades de portes obertes a l'escola Mare del Diví Pastor a Capellades.

URI:https://www.capellades.cat/actualitat/agenda/activitat-suspesa-portes-obertes-escola-mare-del-divi-pastor.html
CLASS:PUBLIC
END:VEVENT
END:VCALENDAR
