BEGIN:VCALENDAR
VERSION:2.0
CALSCALE:GREGORIAN
PRODID:-//Diputació de Barcelona//DibaCMS//EN
BEGIN:VEVENT
UID:5051
DTSTAMP:20260419T151622
DTSTART:20200307T210000
DTEND:20200307T230000
SUMMARY:Concert "Rise" amb The Sey Sisters
LOCATION:
METHOD:PUBLISH
X-WR-CALNAME:capellades@capellades.cat
X-WR-TIMEZONE:Europe/Madrid
DESCRIPTION:"Rise" és el segon treball d'aquestes tres germanes que van tenir molt èxit en el seu debut amb "Let freedom ring".

URI:https://www.capellades.cat/actualitat/agenda/concert-rise-amb-the-sey-sisters.html
CLASS:PUBLIC
END:VEVENT
END:VCALENDAR
