BEGIN:VCALENDAR
VERSION:2.0
CALSCALE:GREGORIAN
PRODID:-//Diputació de Barcelona//DibaCMS//EN
BEGIN:VEVENT
UID:5028
DTSTAMP:20260420T061156
DTSTART:20200227T193000
DTEND:20200227T210000
SUMMARY:Xerrada sobre eConsulta
LOCATION:
METHOD:PUBLISH
X-WR-CALNAME:capellades@capellades.cat
X-WR-TIMEZONE:Europe/Madrid
DESCRIPTION:La Societat La Lliga organitza una xerrada sobre eConsulta.

URI:https://www.capellades.cat/actualitat/agenda/xerrada-sobre-econsulta.html
CLASS:PUBLIC
END:VEVENT
END:VCALENDAR
