BEGIN:VCALENDAR
VERSION:2.0
CALSCALE:GREGORIAN
PRODID:-//Diputació de Barcelona//DibaCMS//EN
BEGIN:VEVENT
UID:5025
DTSTAMP:20260420T062221
DTSTART:20200221T200000
DTEND:20200221T220000
SUMMARY:Cinefòrum Josep Romanyà Montcada
LOCATION:
METHOD:PUBLISH
X-WR-CALNAME:capellades@capellades.cat
X-WR-TIMEZONE:Europe/Madrid
DESCRIPTION:El Cinefòrum Josep Romanyà Montcada proposa per aquest mes de febrer "La Llamada".

URI:https://www.capellades.cat/actualitat/agenda/5025-cineforum-josep-romanya-montcada.html
CLASS:PUBLIC
END:VEVENT
END:VCALENDAR
