BEGIN:VCALENDAR
VERSION:2.0
CALSCALE:GREGORIAN
PRODID:-//Diputació de Barcelona//DibaCMS//EN
BEGIN:VEVENT
UID:5016
DTSTAMP:20260419T195656
DTSTART:20200225T210000
DTEND:20200225T230000
SUMMARY:Audiciona't (43)
LOCATION:
METHOD:PUBLISH
X-WR-CALNAME:capellades@capellades.cat
X-WR-TIMEZONE:Europe/Madrid
DESCRIPTION:Aquest dimarts 25 de febrer a les 9 de la nit es farà a l'Escola de Música de Capellades l'Audiciona't número 43.

URI:https://www.capellades.cat/actualitat/agenda/5016-audicionat-43.html
CLASS:PUBLIC
END:VEVENT
END:VCALENDAR
