BEGIN:VCALENDAR
VERSION:2.0
CALSCALE:GREGORIAN
PRODID:-//Diputació de Barcelona//DibaCMS//EN
BEGIN:VEVENT
UID:5015
DTSTAMP:20260419T180312
DTSTART:20200221T170000
DTEND:20200221T210000
SUMMARY:Nou acapte de sang
LOCATION:
METHOD:PUBLISH
X-WR-CALNAME:capellades@capellades.cat
X-WR-TIMEZONE:Europe/Madrid
DESCRIPTION:Aquest divendres el Banc de Sang i Teixits tornarà a ser a Capellades per un nou acapte de sang. Des de les 5 de la tarda i fins les 9 del vespre es podrà donar sang a Cal Ponet.

URI:https://www.capellades.cat/actualitat/agenda/5015-nou-acapte-de-sang.html
CLASS:PUBLIC
END:VEVENT
END:VCALENDAR
