BEGIN:VCALENDAR
VERSION:2.0
CALSCALE:GREGORIAN
PRODID:-//Diputació de Barcelona//DibaCMS//EN
BEGIN:VEVENT
UID:5010
DTSTAMP:20260419T172827
DTSTART:20200218T180000
DTEND:20200218T190000
SUMMARY:Segon taller de màgia a la Biblioteca El Safareig
LOCATION:
METHOD:PUBLISH
X-WR-CALNAME:capellades@capellades.cat
X-WR-TIMEZONE:Europe/Madrid
DESCRIPTION:Segon taller de màgia organitzat des de la Biblioteca El Safareig de Capellades.

URI:https://www.capellades.cat/actualitat/agenda/segon-taller-de-magia-a-la-biblioteca-el-safareig.html
CLASS:PUBLIC
END:VEVENT
END:VCALENDAR
