BEGIN:VCALENDAR
VERSION:2.0
CALSCALE:GREGORIAN
PRODID:-//Diputació de Barcelona//DibaCMS//EN
BEGIN:VEVENT
UID:5008
DTSTAMP:20260420T060733
DTSTART:20200216T080000
DTEND:20200216T140000
SUMMARY:Nova sortida dels Caminant per la Comarca
LOCATION:
METHOD:PUBLISH
X-WR-CALNAME:capellades@capellades.cat
X-WR-TIMEZONE:Europe/Madrid
DESCRIPTION:Aquest mes de febrer la proposta dels Caminant per la Comarca ens portarà fins el Montgròs.

URI:https://www.capellades.cat/actualitat/agenda/5008-nova-sortida-dels-caminant-per-la-comarca.html
CLASS:PUBLIC
END:VEVENT
END:VCALENDAR
