BEGIN:VCALENDAR
VERSION:2.0
CALSCALE:GREGORIAN
PRODID:-//Diputació de Barcelona//DibaCMS//EN
BEGIN:VEVENT
UID:5007
DTSTAMP:20260421T115652
DTSTART:20200214T193000
DTEND:20200214T210000
SUMMARY:Cinema: La biblioteca dels llibres rebutjats
LOCATION:
METHOD:PUBLISH
X-WR-CALNAME:capellades@capellades.cat
X-WR-TIMEZONE:Europe/Madrid
DESCRIPTION:Aquest divendres 14 de febrer, al Saló Rosa, es podrà veure a les 19:30 hores la pel·lícula "La biblioteca dels llibres rebutjats".

URI:https://www.capellades.cat/actualitat/agenda/cinema-la-biblioteca-dels-llibres-rebutjats.html
CLASS:PUBLIC
END:VEVENT
END:VCALENDAR
