BEGIN:VCALENDAR
VERSION:2.0
CALSCALE:GREGORIAN
PRODID:-//Diputació de Barcelona//DibaCMS//EN
BEGIN:VEVENT
UID:5006
DTSTAMP:20260420T054944
DTSTART:20200213T153000
DTEND:20200215T173000
SUMMARY:Visita del SIAD
LOCATION:
METHOD:PUBLISH
X-WR-CALNAME:capellades@capellades.cat
X-WR-TIMEZONE:Europe/Madrid
DESCRIPTION:Aquest mes de febrer la visita del SIAD és el dijous 13 de febrer.

URI:https://www.capellades.cat/actualitat/agenda/5006-visita-del-siad.html
CLASS:PUBLIC
END:VEVENT
END:VCALENDAR
