BEGIN:VCALENDAR
VERSION:2.0
CALSCALE:GREGORIAN
PRODID:-//Diputació de Barcelona//DibaCMS//EN
BEGIN:VEVENT
UID:5004
DTSTAMP:20260420T091819
DTSTART:20200215T120000
DTEND:20200215T130000
SUMMARY:Assemblea oberta sobre la Festa Major Popular
LOCATION:
METHOD:PUBLISH
X-WR-CALNAME:capellades@capellades.cat
X-WR-TIMEZONE:Europe/Madrid
DESCRIPTION:Aquest dissabte 15 de febrer es farà una assemblea oberta a Capellades per començar a parlar sobre la Festa Major Popular.

URI:https://www.capellades.cat/actualitat/agenda/assemblea-oberta-sobre-la-festa-major-popular.html
CLASS:PUBLIC
END:VEVENT
END:VCALENDAR
