BEGIN:VCALENDAR
VERSION:2.0
CALSCALE:GREGORIAN
PRODID:-//Diputació de Barcelona//DibaCMS//EN
BEGIN:VEVENT
UID:5003
DTSTAMP:20260420T024534
DTSTART:20200223T170000
DTEND:20200223T180000
SUMMARY:Carnestoltes a Capellades
LOCATION:
METHOD:PUBLISH
X-WR-CALNAME:capellades@capellades.cat
X-WR-TIMEZONE:Europe/Madrid
DESCRIPTION:En Jaume Barri serà l'encarregat de dinamitzar la gran festa de Carnestoltes que es farà a Capellades el diumenge 23 de febrer.

URI:https://www.capellades.cat/actualitat/agenda/5003-carnestoltes-a-capellades.html
CLASS:PUBLIC
END:VEVENT
END:VCALENDAR
