BEGIN:VCALENDAR
VERSION:2.0
CALSCALE:GREGORIAN
PRODID:-//Diputació de Barcelona//DibaCMS//EN
BEGIN:VEVENT
UID:4998
DTSTAMP:20260419T155802
DTSTART:20200213T100000
DTEND:20200213T110000
SUMMARY:Visita de l'Oficina mòbil d'Atenció al Consumidor
LOCATION:
METHOD:PUBLISH
X-WR-CALNAME:capellades@capellades.cat
X-WR-TIMEZONE:Europe/Madrid
DESCRIPTION:La propera visita del Bus de Consum a Capellades serà aquest dijous 13 de febrer, de 10 a 11, a la Plaça Verdaguer.

URI:https://www.capellades.cat/actualitat/agenda/4998-visita-de-loficina-mobil-datencio-al-consumidor.html
CLASS:PUBLIC
END:VEVENT
END:VCALENDAR
