BEGIN:VCALENDAR
VERSION:2.0
CALSCALE:GREGORIAN
PRODID:-//Diputació de Barcelona//DibaCMS//EN
BEGIN:VEVENT
UID:4984
DTSTAMP:20260419T145520
DTSTART:20200206T183000
DTEND:20200206T193000
SUMMARY:Festa Major d'Hivern: espectacle familiar
LOCATION:
METHOD:PUBLISH
X-WR-CALNAME:capellades@capellades.cat
X-WR-TIMEZONE:Europe/Madrid
DESCRIPTION:Per la Festa Major d'Hivern, espectacle familiar a les 18:30 al Teatre La Lliga.

URI:https://www.capellades.cat/actualitat/agenda/festa-major-dhivern-espectacle-familiar.html
CLASS:PUBLIC
END:VEVENT
END:VCALENDAR
