BEGIN:VCALENDAR
VERSION:2.0
CALSCALE:GREGORIAN
PRODID:-//Diputació de Barcelona//DibaCMS//EN
BEGIN:VEVENT
UID:4958
DTSTAMP:20260420T014143
DTSTART:20200125T190000
DTEND:20200125T200000
SUMMARY:Concert de Jazz a Paper de Música
LOCATION:
METHOD:PUBLISH
X-WR-CALNAME:capellades@capellades.cat
X-WR-TIMEZONE:Europe/Madrid
DESCRIPTION:Concert de Jazz amb Joe Pisto a la guitarra i veu i Ignasi Terraza al piano.

URI:https://www.capellades.cat/actualitat/agenda/4958-concert-de-jazz-a-paper-de-musica.html
CLASS:PUBLIC
END:VEVENT
END:VCALENDAR
