BEGIN:VCALENDAR
VERSION:2.0
CALSCALE:GREGORIAN
PRODID:-//Diputació de Barcelona//DibaCMS//EN
BEGIN:VEVENT
UID:4955
DTSTAMP:20260420T041921
DTSTART:20200126T110000
DTEND:20200126T130000
SUMMARY:Assemblea anual de socis de La Lliga
LOCATION:
METHOD:PUBLISH
X-WR-CALNAME:capellades@capellades.cat
X-WR-TIMEZONE:Europe/Madrid
DESCRIPTION:A les 11 del matí, al Saló Rosa, es farà aquesta reunió.

URI:https://www.capellades.cat/actualitat/agenda/4955-assemblea-anual-de-socis-de-la-lliga.html
CLASS:PUBLIC
END:VEVENT
END:VCALENDAR
