BEGIN:VCALENDAR
VERSION:2.0
CALSCALE:GREGORIAN
PRODID:-//Diputació de Barcelona//DibaCMS//EN
BEGIN:VEVENT
UID:4952
DTSTAMP:20260420T042236
DTSTART:20200124T193000
DTEND:20200124T220000
SUMMARY:La Lliga de Jocs el 24 de gener
LOCATION:
METHOD:PUBLISH
X-WR-CALNAME:capellades@capellades.cat
X-WR-TIMEZONE:Europe/Madrid
DESCRIPTION:Nova edició de La Lliga de Jocs, per tothom qui li agradi gaudir amb els jocs de taula.

URI:https://www.capellades.cat/actualitat/agenda/la-lliga-de-jocs-el-24-de-gener.html
CLASS:PUBLIC
END:VEVENT
END:VCALENDAR
