BEGIN:VCALENDAR
VERSION:2.0
CALSCALE:GREGORIAN
PRODID:-//Diputació de Barcelona//DibaCMS//EN
BEGIN:VEVENT
UID:4951
DTSTAMP:20260419T233337
DTSTART:20200123T210000
DTEND:20200123T235500
SUMMARY:Aquest gener Sopem Lligats amb Jaume  i Jaumet Bernadet
LOCATION:
METHOD:PUBLISH
X-WR-CALNAME:capellades@capellades.cat
X-WR-TIMEZONE:Europe/Madrid
DESCRIPTION:Coneixerem de la vora aquests dos personatges tan entranyables. Pare i fill han viscut vides paral·leles endinsats en el món del teatre i de la cultura.

URI:https://www.capellades.cat/actualitat/agenda/aquest-gener-sopem-lligats-amb-jaume-i-jaumet-bernadet.html
CLASS:PUBLIC
END:VEVENT
END:VCALENDAR
