BEGIN:VCALENDAR
VERSION:2.0
CALSCALE:GREGORIAN
PRODID:-//Diputació de Barcelona//DibaCMS//EN
BEGIN:VEVENT
UID:4943
DTSTAMP:20260419T165651
DTSTART:20200126T190000
DTEND:20200126T210000
SUMMARY:El Grup Teatral porta "El Nom" a Castellolí
LOCATION:
METHOD:PUBLISH
X-WR-CALNAME:capellades@capellades.cat
X-WR-TIMEZONE:Europe/Madrid
DESCRIPTION:Dins els actes de la Festa Major el Grup Teatral de Capellades representarà l'obra "El Nom".

URI:https://www.capellades.cat/actualitat/agenda/el-grup-teatral-porta-el-nom-a-castelloli.html
CLASS:PUBLIC
END:VEVENT
END:VCALENDAR
