BEGIN:VCALENDAR
VERSION:2.0
CALSCALE:GREGORIAN
PRODID:-//Diputació de Barcelona//DibaCMS//EN
BEGIN:VEVENT
UID:4941
DTSTAMP:20260419T214132
DTSTART:20200119T080000
DTEND:20200119T140000
SUMMARY:Sortida dels Caminant per la Comarca
LOCATION:
METHOD:PUBLISH
X-WR-CALNAME:capellades@capellades.cat
X-WR-TIMEZONE:Europe/Madrid
DESCRIPTION:Les persones del Caminant per la Comarca comencen l'any amb una sortida de dificultat alta.

URI:https://www.capellades.cat/actualitat/agenda/sortida-dels-caminant-per-la-comarca.html
CLASS:PUBLIC
END:VEVENT
END:VCALENDAR
