BEGIN:VCALENDAR
VERSION:2.0
CALSCALE:GREGORIAN
PRODID:-//Diputació de Barcelona//DibaCMS//EN
BEGIN:VEVENT
UID:4915
DTSTAMP:20260419T170405
DTSTART:20191231T235900
DTEND:20200101T010000
SUMMARY:Campanades de Cap d'Any i crema del Ninot
LOCATION:
METHOD:PUBLISH
X-WR-CALNAME:capellades@capellades.cat
X-WR-TIMEZONE:Europe/Madrid
DESCRIPTION:Campanades el dia 31 de desembre a la plaça Verdaguer.

URI:https://www.capellades.cat/actualitat/agenda/4915-campanades-de-cap-dany-i-crema-del-ninot.html
CLASS:PUBLIC
END:VEVENT
END:VCALENDAR
