BEGIN:VCALENDAR
VERSION:2.0
CALSCALE:GREGORIAN
PRODID:-//Diputació de Barcelona//DibaCMS//EN
BEGIN:VEVENT
UID:4908
DTSTAMP:20260420T054716
DTSTART:20191224T235500
DTEND:20191225T010000
SUMMARY:Missa del Gall i inauguració Pessebres
LOCATION:
METHOD:PUBLISH
X-WR-CALNAME:capellades@capellades.cat
X-WR-TIMEZONE:Europe/Madrid
DESCRIPTION:El Nadal es comença a celebrar a l'església de Santa Maria amb la Missa del Gall, el dia 24 a les 24 hores.

URI:https://www.capellades.cat/actualitat/agenda/missa-del-gall-i-inauguracio-pessebres.html
CLASS:PUBLIC
END:VEVENT
END:VCALENDAR
