BEGIN:VCALENDAR
VERSION:2.0
CALSCALE:GREGORIAN
PRODID:-//Diputació de Barcelona//DibaCMS//EN
BEGIN:VEVENT
UID:4905
DTSTAMP:20260419T145804
DTSTART:20191222T120000
DTEND:20191222T140000
SUMMARY:Festival  de Rítmica
LOCATION:
METHOD:PUBLISH
X-WR-CALNAME:capellades@capellades.cat
X-WR-TIMEZONE:Europe/Madrid
DESCRIPTION:Per Nadal el Club de Rítmica Capellades fa el seu festival, per mostrar els darrers treballs a famílies i amics.

URI:https://www.capellades.cat/actualitat/agenda/festival-de-ritmica.html
CLASS:PUBLIC
END:VEVENT
END:VCALENDAR
