BEGIN:VCALENDAR
VERSION:2.0
CALSCALE:GREGORIAN
PRODID:-//Diputació de Barcelona//DibaCMS//EN
BEGIN:VEVENT
UID:4886
DTSTAMP:20260420T060307
DTSTART:20191219T180000
DTEND:20191219T200000
SUMMARY:Bingo a Cal Ponet
LOCATION:
METHOD:PUBLISH
X-WR-CALNAME:capellades@capellades.cat
X-WR-TIMEZONE:Europe/Madrid
DESCRIPTION:El darrer bingo d'aquest any 2019 a Cal Ponet serà el dijous 19 de desembre.

URI:https://www.capellades.cat/actualitat/agenda/4886-bingo-a-cal-ponet.html
CLASS:PUBLIC
END:VEVENT
END:VCALENDAR
