BEGIN:VCALENDAR
VERSION:2.0
CALSCALE:GREGORIAN
PRODID:-//Diputació de Barcelona//DibaCMS//EN
BEGIN:VEVENT
UID:4884
DTSTAMP:20260420T060147
DTSTART:20191218T160000
DTEND:20191218T163000
SUMMARY:Nadales a l'escola Marquès de la Pobla
LOCATION:
METHOD:PUBLISH
X-WR-CALNAME:capellades@capellades.cat
X-WR-TIMEZONE:Europe/Madrid
DESCRIPTION:Quan arriben les festes de Nadal els alumnes de l'escola Marquès de la Pobla preparen un repertori de nadales.

URI:https://www.capellades.cat/actualitat/agenda/nadales-a-lescola-marques-de-la-pobla.html
CLASS:PUBLIC
END:VEVENT
END:VCALENDAR
