BEGIN:VCALENDAR
VERSION:2.0
CALSCALE:GREGORIAN
PRODID:-//Diputació de Barcelona//DibaCMS//EN
BEGIN:VEVENT
UID:4882
DTSTAMP:20260420T073721
DTSTART:20191216T180000
DTEND:20191217T180000
SUMMARY:Club de Lectura Petits Lectors
LOCATION:
METHOD:PUBLISH
X-WR-CALNAME:capellades@capellades.cat
X-WR-TIMEZONE:Europe/Madrid
DESCRIPTION:Aquest mes de desembre les dues trobades del Club de Lectura Petits Lectors de la Biblioteca El Safareig serà el dilluns 16 i el dimarts 17.

URI:https://www.capellades.cat/actualitat/agenda/4882-club-de-lectura-petits-lectors.html
CLASS:PUBLIC
END:VEVENT
END:VCALENDAR
