BEGIN:VCALENDAR
VERSION:2.0
CALSCALE:GREGORIAN
PRODID:-//Diputació de Barcelona//DibaCMS//EN
BEGIN:VEVENT
UID:4880
DTSTAMP:20260420T050103
DTSTART:20191215T143000
DTEND:20191215T170000
SUMMARY:Festival Benèfic
LOCATION:
METHOD:PUBLISH
X-WR-CALNAME:capellades@capellades.cat
X-WR-TIMEZONE:Europe/Madrid
DESCRIPTION:La Casa d'Andalusia organitza un any més el Festival Solidari "Cap nen amb un plat buit a taula".

URI:https://www.capellades.cat/actualitat/agenda/festival-benefic.html
CLASS:PUBLIC
END:VEVENT
END:VCALENDAR
