BEGIN:VCALENDAR
VERSION:2.0
CALSCALE:GREGORIAN
PRODID:-//Diputació de Barcelona//DibaCMS//EN
BEGIN:VEVENT
UID:4876
DTSTAMP:20260420T091913
DTSTART:20191212T173000
DTEND:20191213T194500
SUMMARY:Jornada solidària al Centre Mèdic Capellades
LOCATION:
METHOD:PUBLISH
X-WR-CALNAME:capellades@capellades.cat
X-WR-TIMEZONE:Europe/Madrid
DESCRIPTION:El Centre Mèdic Capellades s'uneix als actes benèfics que fa Capellades per la Marató de TV3. 

URI:https://www.capellades.cat/actualitat/agenda/jornada-solidaria-al-centre-medic-capellades.html
CLASS:PUBLIC
END:VEVENT
END:VCALENDAR
