BEGIN:VCALENDAR
VERSION:2.0
CALSCALE:GREGORIAN
PRODID:-//Diputació de Barcelona//DibaCMS//EN
BEGIN:VEVENT
UID:4873
DTSTAMP:20260420T042133
DTSTART:20191215T080000
DTEND:20191215T140000
SUMMARY:Matinal de BTT nadalenca
LOCATION:
METHOD:PUBLISH
X-WR-CALNAME:capellades@capellades.cat
X-WR-TIMEZONE:Europe/Madrid
DESCRIPTION:Aquest diumenge 15 de desembre AEMdeKP proposa una sortida matinal de BTT.

URI:https://www.capellades.cat/actualitat/agenda/matinal-de-btt-nadalenca.html
CLASS:PUBLIC
END:VEVENT
END:VCALENDAR
