BEGIN:VCALENDAR
VERSION:2.0
CALSCALE:GREGORIAN
PRODID:-//Diputació de Barcelona//DibaCMS//EN
BEGIN:VEVENT
UID:4871
DTSTAMP:20260420T013933
DTSTART:20191222T111500
DTEND:20191222T120000
SUMMARY:Concert de Nadal de La Tossa
LOCATION:
METHOD:PUBLISH
X-WR-CALNAME:capellades@capellades.cat
X-WR-TIMEZONE:Europe/Madrid
DESCRIPTION:La Capella de Música de la Tossa d'Igualada farà concert a Capellades el diumenge 22 de desembre.

URI:https://www.capellades.cat/actualitat/agenda/concert-de-nadal-de-la-tossa.html
CLASS:PUBLIC
END:VEVENT
END:VCALENDAR
