BEGIN:VCALENDAR
VERSION:2.0
CALSCALE:GREGORIAN
PRODID:-//Diputació de Barcelona//DibaCMS//EN
BEGIN:VEVENT
UID:4867
DTSTAMP:20260419T232836
DTSTART:20191226T190000
DTEND:20191226T210000
SUMMARY:Concert de Sant Esteve
LOCATION:
METHOD:PUBLISH
X-WR-CALNAME:capellades@capellades.cat
X-WR-TIMEZONE:Europe/Madrid
DESCRIPTION:La Coral Noves Veus farà un any més el seu tradicional Concert de Sant Esteve.

URI:https://www.capellades.cat/actualitat/agenda/4867-concert-de-sant-esteve.html
CLASS:PUBLIC
END:VEVENT
END:VCALENDAR
