BEGIN:VCALENDAR
VERSION:2.0
CALSCALE:GREGORIAN
PRODID:-//Diputació de Barcelona//DibaCMS//EN
BEGIN:VEVENT
UID:4865
DTSTAMP:20260420T091711
DTSTART:20191214T180000
DTEND:20191214T200000
SUMMARY:L'Esplai Aliret amb La Marató
LOCATION:
METHOD:PUBLISH
X-WR-CALNAME:capellades@capellades.cat
X-WR-TIMEZONE:Europe/Madrid
DESCRIPTION:L'Esplai Aliret també col·laobra un any més amb La Marató de TV3.

URI:https://www.capellades.cat/actualitat/agenda/lesplai-aliret-amb-la-marato.html
CLASS:PUBLIC
END:VEVENT
END:VCALENDAR
