BEGIN:VCALENDAR
VERSION:2.0
CALSCALE:GREGORIAN
PRODID:-//Diputació de Barcelona//DibaCMS//EN
BEGIN:VEVENT
UID:4859
DTSTAMP:20260419T214035
DTSTART:20191212T163000
DTEND:20191212T180000
SUMMARY:Actuació nadalenca del grup Girasol
LOCATION:
METHOD:PUBLISH
X-WR-CALNAME:capellades@capellades.cat
X-WR-TIMEZONE:Europe/Madrid
DESCRIPTION:Durant les festes nadalenques els avis i les àvies de la Fundació consort Guaschs poden gaudir de diferents actuacions.

URI:https://www.capellades.cat/actualitat/agenda/actuacio-nadalenca-del-grup-girasol.html
CLASS:PUBLIC
END:VEVENT
END:VCALENDAR
