BEGIN:VCALENDAR
VERSION:2.0
CALSCALE:GREGORIAN
PRODID:-//Diputació de Barcelona//DibaCMS//EN
BEGIN:VEVENT
UID:4858
DTSTAMP:20260419T180253
DTSTART:20191212T160000
DTEND:20191212T190000
SUMMARY:Manualitats a Cal Ponet
LOCATION:
METHOD:PUBLISH
X-WR-CALNAME:capellades@capellades.cat
X-WR-TIMEZONE:Europe/Madrid
DESCRIPTION:A Cal Ponet aquests dies estan preparant un seguit de manualitats nadalenques.

URI:https://www.capellades.cat/actualitat/agenda/manualitats-a-cal-ponet.html
CLASS:PUBLIC
END:VEVENT
END:VCALENDAR
