BEGIN:VCALENDAR
VERSION:2.0
CALSCALE:GREGORIAN
PRODID:-//Diputació de Barcelona//DibaCMS//EN
BEGIN:VEVENT
UID:4857
DTSTAMP:20260420T060710
DTSTART:20191212T153000
DTEND:20191212T173000
SUMMARY:Visita del SIAD
LOCATION:
METHOD:PUBLISH
X-WR-CALNAME:capellades@capellades.cat
X-WR-TIMEZONE:Europe/Madrid
DESCRIPTION:Aquest mes de desembre la visita del SIAD serà el dijous dia 12.

URI:https://www.capellades.cat/actualitat/agenda/4857-visita-del-siad.html
CLASS:PUBLIC
END:VEVENT
END:VCALENDAR
