BEGIN:VCALENDAR
VERSION:2.0
CALSCALE:GREGORIAN
PRODID:-//Diputació de Barcelona//DibaCMS//EN
BEGIN:VEVENT
UID:4856
DTSTAMP:20260420T022611
DTSTART:20191210T190000
DTEND:20191210T200000
SUMMARY:Conferència espectacle amb el Mag Hausson
LOCATION:
METHOD:PUBLISH
X-WR-CALNAME:capellades@capellades.cat
X-WR-TIMEZONE:Europe/Madrid
DESCRIPTION:"Joan Brossa i la màgia" és el títol de la conferència espectacle que es farà el dimarts 10 de desembre a la Biblioteca El Safareig.

URI:https://www.capellades.cat/actualitat/agenda/conferencia-espectacle-amb-el-mag-hausson.html
CLASS:PUBLIC
END:VEVENT
END:VCALENDAR
