BEGIN:VCALENDAR
VERSION:2.0
CALSCALE:GREGORIAN
PRODID:-//Diputació de Barcelona//DibaCMS//EN
BEGIN:VEVENT
UID:4852
DTSTAMP:20260420T092016
DTSTART:20191206T060000
DTEND:20191206T150000
SUMMARY:Sortida cap el Matagalls
LOCATION:
METHOD:PUBLISH
X-WR-CALNAME:capellades@capellades.cat
X-WR-TIMEZONE:Europe/Madrid
DESCRIPTION:Des d'AEMdeKP s'ha organitzat un seguit d'excursions englobades amb el nom de "Sortides 100 Cims".

URI:https://www.capellades.cat/actualitat/agenda/sortida-cap-el-matagalls.html
CLASS:PUBLIC
END:VEVENT
END:VCALENDAR
