BEGIN:VCALENDAR
VERSION:2.0
CALSCALE:GREGORIAN
PRODID:-//Diputació de Barcelona//DibaCMS//EN
BEGIN:VEVENT
UID:4841
DTSTAMP:20260419T170420
DTSTART:20191204T180000
DTEND:20191204T190000
SUMMARY:Hora del Conte
LOCATION:
METHOD:PUBLISH
X-WR-CALNAME:capellades@capellades.cat
X-WR-TIMEZONE:Europe/Madrid
DESCRIPTION:L'Hora del Conte d'aquest desembre a la Biblioteca El Safareig explicarà ... "Contes de Nadal".

URI:https://www.capellades.cat/actualitat/agenda/4841-hora-del-conte.html
CLASS:PUBLIC
END:VEVENT
END:VCALENDAR
