BEGIN:VCALENDAR
VERSION:2.0
CALSCALE:GREGORIAN
PRODID:-//Diputació de Barcelona//DibaCMS//EN
BEGIN:VEVENT
UID:4829
DTSTAMP:20260420T072447
DTSTART:20191128T193000
DTEND:20191128T210000
SUMMARY:Xerrada sobre malalties minoritàries
LOCATION:
METHOD:PUBLISH
X-WR-CALNAME:capellades@capellades.cat
X-WR-TIMEZONE:Europe/Madrid
DESCRIPTION:La infermera del CAP, Francina Travesset, parlarà sobre la 28a. edició de la Marató Solidària de TV3.

URI:https://www.capellades.cat/actualitat/agenda/xerrada-sobre-malalties-minoritaries.html
CLASS:PUBLIC
END:VEVENT
END:VCALENDAR
