BEGIN:VCALENDAR
VERSION:2.0
CALSCALE:GREGORIAN
PRODID:-//Diputació de Barcelona//DibaCMS//EN
BEGIN:VEVENT
UID:4823
DTSTAMP:20260420T072431
DTSTART:20191201T183000
DTEND:20191201T200000
SUMMARY:Cosmos Quartet en concert a Capellades
LOCATION:
METHOD:PUBLISH
X-WR-CALNAME:capellades@capellades.cat
X-WR-TIMEZONE:Europe/Madrid
DESCRIPTION:La 3a. Setmana de la Música tancarà a Capellades amb un concert d'alt nivell amb el Cosmos Quartet.

URI:https://www.capellades.cat/actualitat/agenda/cosmos-quartet-en-concert-a-capellades.html
CLASS:PUBLIC
END:VEVENT
END:VCALENDAR
