BEGIN:VCALENDAR
VERSION:2.0
CALSCALE:GREGORIAN
PRODID:-//Diputació de Barcelona//DibaCMS//EN
BEGIN:VEVENT
UID:4821
DTSTAMP:20260419T172807
DTSTART:20191130T210000
DTEND:20191130T220000
SUMMARY:Concert de Santa Cecília amb la Coral Noves Veus
LOCATION:
METHOD:PUBLISH
X-WR-CALNAME:capellades@capellades.cat
X-WR-TIMEZONE:Europe/Madrid
DESCRIPTION:Un any més la Coral Noves Veus de Capellades porta la música al concert de Santa Cecília.

URI:https://www.capellades.cat/actualitat/agenda/concert-de-santa-cecilia-amb-la-coral-noves-veus.html
CLASS:PUBLIC
END:VEVENT
END:VCALENDAR
